BEGIN:VCALENDAR
VERSION:2.0
PRODID:-//West Houston Association Of Professional Landmen - ECPv6.15.20//NONSGML v1.0//EN
CALSCALE:GREGORIAN
METHOD:PUBLISH
X-WR-CALNAME:West Houston Association Of Professional Landmen
X-ORIGINAL-URL:https://westhoustonlandmen.com
X-WR-CALDESC:Events for West Houston Association Of Professional Landmen
REFRESH-INTERVAL;VALUE=DURATION:PT1H
X-Robots-Tag:noindex
X-PUBLISHED-TTL:PT1H
BEGIN:VTIMEZONE
TZID:America/Chicago
BEGIN:DAYLIGHT
TZOFFSETFROM:-0600
TZOFFSETTO:-0500
TZNAME:CDT
DTSTART:20240310T080000
END:DAYLIGHT
BEGIN:STANDARD
TZOFFSETFROM:-0500
TZOFFSETTO:-0600
TZNAME:CST
DTSTART:20241103T070000
END:STANDARD
BEGIN:DAYLIGHT
TZOFFSETFROM:-0600
TZOFFSETTO:-0500
TZNAME:CDT
DTSTART:20250309T080000
END:DAYLIGHT
BEGIN:STANDARD
TZOFFSETFROM:-0500
TZOFFSETTO:-0600
TZNAME:CST
DTSTART:20251102T070000
END:STANDARD
BEGIN:DAYLIGHT
TZOFFSETFROM:-0600
TZOFFSETTO:-0500
TZNAME:CDT
DTSTART:20260308T080000
END:DAYLIGHT
BEGIN:STANDARD
TZOFFSETFROM:-0500
TZOFFSETTO:-0600
TZNAME:CST
DTSTART:20261101T070000
END:STANDARD
END:VTIMEZONE
BEGIN:VEVENT
DTSTART;TZID=America/Chicago:20250529T170000
DTEND;TZID=America/Chicago:20250529T200000
DTSTAMP:20260422T172300
CREATED:20250424T152842Z
LAST-MODIFIED:20250424T152905Z
UID:10000034-1748538000-1748548800@westhoustonlandmen.com
SUMMARY:WHAPL Annual Shrimp Boil & Membership Drive
DESCRIPTION:WHAPL’s Annual Shrimp Boil & Membership Drive. Come out and enjoy a good time with industry colleagues and their families while supporting the WHAPL!This is a family friendly event\, spouses & kids are welcome. Please RSVP for all individuals in your family who plan to attend. One member of your immediate family must pay for an annual WHAPL Membership of $45 at the event. Going forward all memberships will run June 1st to June 1st and require renewal at this event and count as your “ticket” to eat and drink.
URL:https://westhoustonlandmen.com/event/whapl-annual-shrimp-boil-membership-drive-4/
LOCATION:Powder Keg\, 1300 Brittmoore Rd.\, Houston\, TX\, 77043\, United States
CATEGORIES:Membership Drive,Social
ORGANIZER;CN="West Houston Association of Professional Landmen":MAILTO:westhoustonlandmen@gmail.com
END:VEVENT
END:VCALENDAR