BEGIN:VCALENDAR
VERSION:2.0
PRODID:-//West Houston Association Of Professional Landmen - ECPv6.15.20//NONSGML v1.0//EN
CALSCALE:GREGORIAN
METHOD:PUBLISH
X-WR-CALNAME:West Houston Association Of Professional Landmen
X-ORIGINAL-URL:https://westhoustonlandmen.com
X-WR-CALDESC:Events for West Houston Association Of Professional Landmen
REFRESH-INTERVAL;VALUE=DURATION:PT1H
X-Robots-Tag:noindex
X-PUBLISHED-TTL:PT1H
BEGIN:VTIMEZONE
TZID:America/Chicago
BEGIN:DAYLIGHT
TZOFFSETFROM:-0600
TZOFFSETTO:-0500
TZNAME:CDT
DTSTART:20200308T080000
END:DAYLIGHT
BEGIN:STANDARD
TZOFFSETFROM:-0500
TZOFFSETTO:-0600
TZNAME:CST
DTSTART:20201101T070000
END:STANDARD
BEGIN:DAYLIGHT
TZOFFSETFROM:-0600
TZOFFSETTO:-0500
TZNAME:CDT
DTSTART:20210314T080000
END:DAYLIGHT
BEGIN:STANDARD
TZOFFSETFROM:-0500
TZOFFSETTO:-0600
TZNAME:CST
DTSTART:20211107T070000
END:STANDARD
BEGIN:DAYLIGHT
TZOFFSETFROM:-0600
TZOFFSETTO:-0500
TZNAME:CDT
DTSTART:20220313T080000
END:DAYLIGHT
BEGIN:STANDARD
TZOFFSETFROM:-0500
TZOFFSETTO:-0600
TZNAME:CST
DTSTART:20221106T070000
END:STANDARD
BEGIN:DAYLIGHT
TZOFFSETFROM:-0600
TZOFFSETTO:-0500
TZNAME:CDT
DTSTART:20230312T080000
END:DAYLIGHT
BEGIN:STANDARD
TZOFFSETFROM:-0500
TZOFFSETTO:-0600
TZNAME:CST
DTSTART:20231105T070000
END:STANDARD
END:VTIMEZONE
BEGIN:VEVENT
DTSTART;TZID=America/Chicago:20220317T113000
DTEND;TZID=America/Chicago:20220317T130000
DTSTAMP:20260425T111547
CREATED:20220203T213154Z
LAST-MODIFIED:20220204T231019Z
UID:10000017-1647516600-1647522000@westhoustonlandmen.com
SUMMARY:WHAPL Lunch-n-Learn
DESCRIPTION:Join WHAPL for a Lunch-n-Learn event featuring a presentation on Title Curative by Attorney Drew Potts with Kirby\, Mathews & Walrath\, PLLC. \n\n\n\nMr. Potts is a graduate of Texas A&M University and St. Mary’s University School of Law. Mr. Potts is a Partner with Kirby\, Mathews & Walrath and is licensed to practice law in Texas and New Mexico\, and is certified by the Texas Board of Legal Specialization in Oil\, Gas and Mineral Law.  Since becoming a licensed attorney\, Mr. Potts has devoted his practice exclusively to energy law\, conducting title examination in various plays throughout Texas and in the Permian region of New Mexico.  This Lunch-n-Learn will offer 1 CE Credit. Lunch is included in the cost.
URL:https://westhoustonlandmen.com/event/whapl-lunch-n-learn/
LOCATION:Sylvia’s Enchilada Kitchen\, 1140 Eldridge Parkway\, Houston\, Texas\, 77077\, United States
END:VEVENT
BEGIN:VEVENT
DTSTART;TZID=America/Chicago:20211022T130000
DTEND;TZID=America/Chicago:20211022T180000
DTSTAMP:20260425T111547
CREATED:20210826T142530Z
LAST-MODIFIED:20210827T193416Z
UID:10000015-1634907600-1634925600@westhoustonlandmen.com
SUMMARY:WHAPL Sporting Clays Charity Shoot
DESCRIPTION:Event Details\n\n\n\n50 Target Sporting Clays: Five (5) Man Teams \n\n\n\nLimited to 150 Shooters with priority to Event SponsorsEar and Eye Protection RequiredShells provided: 12 Ga. or 20 Ga.Team Rep. must be designated and responsible for team check‐inIndividually registered Shooters will be assigned to a TeamMust be present to win door prizesOnly Shooters will be eligible for prizes (must be present to win)\n\n\n\n\n\n\n\nFees\n\n\n\n$165.00 per shooter / $825.00 Team$35.00 non‐shooter dinner contribution $5.00/Mulligan (Available upon Check In or can be purchased in advance)\, Limit (4) per Shooter\n\n\n\n\n\n\n\nCharity: Hives For Heroes\n\n\n\nNational veteran non-profit organizationMission is to focus on honeybee conservation\, suicide prevention and a healthy transition from serviceProvides connection\, purpose and healthy relationships fostering a lifelong hobby in beekeeping\n\n\n\n\n\n\n\nSchedule\n\n\n\nCheck In 2:00 p.m. – 2:45 p.m.Safety Meeting at 2:45 p.m. (Shooter Requirement)SHOOT STARTS PROMPTLY at 3:00 p.m.    Steak Dinner at 5:30 p.m.Award Ceremony & Door Prizes at 6:30 p.m.\n\n\n\n\n\n\n\n\n\nALL REGISTRATION AND SPONSORSHIP FORMS ARE DUE BY OCTOBER 15\, 2021.  \n\n\n\nPlease submit your registration and sponsorship forms to Andrew McGhee. Payment can be made online or mailed to: \n\n\n\nAndrew McGhee\, Event Coordinator\n\n\n\nWHAPL: Attn: Andrew McGhee \n\n\n\n9805 Katy Freeway\, Suite 300 \n\n\n\nHouston\, TX 77024 \n\n\n\n281-793-0822 \n\n\n\namcghee@krakenoil.com \n\n\n\n\n\n\n\n\nRegistration Form\n\n\n\nSponsorship Form\n\n\n\n\n\nPay Through PayPal
URL:https://westhoustonlandmen.com/event/whapl-sporting-clays-charity-shoot/
LOCATION:American Shooting Center\, 16500 Westheimer Pkwy\, Houston\, TX\, 77082\, United States
END:VEVENT
BEGIN:VEVENT
DTSTART;TZID=America/Chicago:20210617T160000
DTEND;TZID=America/Chicago:20210617T190000
DTSTAMP:20260425T111547
CREATED:20210525T193350Z
LAST-MODIFIED:20210525T193352Z
UID:10000014-1623945600-1623956400@westhoustonlandmen.com
SUMMARY:2021 - WHAPL Shrimp Boil and Membership Drive
DESCRIPTION:
URL:https://westhoustonlandmen.com/event/2021-whapl-shrimp-boil-and-membership-drive/
LOCATION:Bobcat Teddy’s Ice House\, 2803 White Oak\, Houston\, TX\, 77005
END:VEVENT
END:VCALENDAR