BEGIN:VCALENDAR
VERSION:2.0
PRODID:-//West Houston Association Of Professional Landmen - ECPv6.15.20//NONSGML v1.0//EN
CALSCALE:GREGORIAN
METHOD:PUBLISH
X-WR-CALNAME:West Houston Association Of Professional Landmen
X-ORIGINAL-URL:https://westhoustonlandmen.com
X-WR-CALDESC:Events for West Houston Association Of Professional Landmen
REFRESH-INTERVAL;VALUE=DURATION:PT1H
X-Robots-Tag:noindex
X-PUBLISHED-TTL:PT1H
BEGIN:VTIMEZONE
TZID:America/Chicago
BEGIN:DAYLIGHT
TZOFFSETFROM:-0600
TZOFFSETTO:-0500
TZNAME:CDT
DTSTART:20230312T080000
END:DAYLIGHT
BEGIN:STANDARD
TZOFFSETFROM:-0500
TZOFFSETTO:-0600
TZNAME:CST
DTSTART:20231105T070000
END:STANDARD
BEGIN:DAYLIGHT
TZOFFSETFROM:-0600
TZOFFSETTO:-0500
TZNAME:CDT
DTSTART:20240310T080000
END:DAYLIGHT
BEGIN:STANDARD
TZOFFSETFROM:-0500
TZOFFSETTO:-0600
TZNAME:CST
DTSTART:20241103T070000
END:STANDARD
BEGIN:DAYLIGHT
TZOFFSETFROM:-0600
TZOFFSETTO:-0500
TZNAME:CDT
DTSTART:20250309T080000
END:DAYLIGHT
BEGIN:STANDARD
TZOFFSETFROM:-0500
TZOFFSETTO:-0600
TZNAME:CST
DTSTART:20251102T070000
END:STANDARD
END:VTIMEZONE
BEGIN:VEVENT
DTSTART;TZID=America/Chicago:20241101T140000
DTEND;TZID=America/Chicago:20241101T190000
DTSTAMP:20260423T072626
CREATED:20240916T135517Z
LAST-MODIFIED:20241030T201611Z
UID:10000031-1730469600-1730487600@westhoustonlandmen.com
SUMMARY:WHAPL Charity Sporting Clays - EVENT IS FULL; SPONSORSHIPS STILL AVAILABLE
DESCRIPTION:50 Target Sporting Clays: Five (5) Man Teams\n\n\n\n\nLimited to 150 Shooters with priority to Event Sponsors\n\n\n\nEar and Eye Protection Required\n\n\n\nShells provided: 12 Ga. or 20 Ga.\n\n\n\nTeam Rep. must be designated and responsible for team check‐in\n\n\n\nIndividually registered Shooters will be assigned to a Team\n\n\n\nMust be present to win door prizes\n\n\n\nOnly Shooters will be eligible for prizes (must be present to win)\n\n\n\n\n \n\n\n\nRegistration Fee\n\n\n\n\n$165.00 per shooter / $825.00 Team\n\n\n\n$35.00 non‐shooter dinner contribution\n\n\n\n$5.00/Mulligan (Available upon Check In or can be purchased in advance)\, Limit (4) per Shooter\n\n\n\nALL REGISTRATION AND SPONSORSHIP IS DUE BY OCTOBER 25\, 2024\n\n\n\n\n \n\n\n\nCharity: Hives For Heroes\n\n\n\n\nNational veteran non-profit organization – https://www.hivesforheroes.com\n\n\n\nMission is to focus on honeybee conservation\, suicide prevention and a healthy transition from service\n\n\n\nProvides connection\, purpose and healthy relationships fostering a lifelong hobby in beekeeping\n\n\n\nSpecial thanks to all our 2023 sponsors\, we were able to donate $7\,500 to Hives for Heros last year!\n\n\n\n\n \n\n\n\nSchedule\n\n\n\n\nCheck In 2:00 p.m. – 2:45 p.m.\n\n\n\nSafety Meeting at 2:45 p.m. (Shooter Requirement)\n\n\n\nSHOOT STARTS PROMPTLY at 3:00 p.m.    \n\n\n\nSteak Dinner at 5:30 p.m.\n\n\n\nAward Ceremony & Door Prizes at 6:30 p.m.\n\n\n\n\n \n\n\n\nDownload Forms\n\n\n\n \n\n\n\n2024_WHAPL Sporting Clays Sponsor FormDownload\n\n\n\n \n\n\n\nAndrew McGhee – Event Coordinator \n\n\n\n\n\n281-793-0822\n\n\n\namcghee@krakenoil.com
URL:https://westhoustonlandmen.com/event/whapl-charity-sporting-clays-3/
LOCATION:American Shooting Center\, 16500 Westheimer Pkwy\, Houston\, TX\, 77082\, United States
END:VEVENT
END:VCALENDAR