BEGIN:VCALENDAR
VERSION:2.0
PRODID:-//West Houston Association Of Professional Landmen - ECPv6.15.20//NONSGML v1.0//EN
CALSCALE:GREGORIAN
METHOD:PUBLISH
X-WR-CALNAME:West Houston Association Of Professional Landmen
X-ORIGINAL-URL:https://westhoustonlandmen.com
X-WR-CALDESC:Events for West Houston Association Of Professional Landmen
REFRESH-INTERVAL;VALUE=DURATION:PT1H
X-Robots-Tag:noindex
X-PUBLISHED-TTL:PT1H
BEGIN:VTIMEZONE
TZID:America/Chicago
BEGIN:DAYLIGHT
TZOFFSETFROM:-0600
TZOFFSETTO:-0500
TZNAME:CDT
DTSTART:20220313T080000
END:DAYLIGHT
BEGIN:STANDARD
TZOFFSETFROM:-0500
TZOFFSETTO:-0600
TZNAME:CST
DTSTART:20221106T070000
END:STANDARD
BEGIN:DAYLIGHT
TZOFFSETFROM:-0600
TZOFFSETTO:-0500
TZNAME:CDT
DTSTART:20230312T080000
END:DAYLIGHT
BEGIN:STANDARD
TZOFFSETFROM:-0500
TZOFFSETTO:-0600
TZNAME:CST
DTSTART:20231105T070000
END:STANDARD
BEGIN:DAYLIGHT
TZOFFSETFROM:-0600
TZOFFSETTO:-0500
TZNAME:CDT
DTSTART:20240310T080000
END:DAYLIGHT
BEGIN:STANDARD
TZOFFSETFROM:-0500
TZOFFSETTO:-0600
TZNAME:CST
DTSTART:20241103T070000
END:STANDARD
BEGIN:DAYLIGHT
TZOFFSETFROM:-0600
TZOFFSETTO:-0500
TZNAME:CDT
DTSTART:20250309T080000
END:DAYLIGHT
BEGIN:STANDARD
TZOFFSETFROM:-0500
TZOFFSETTO:-0600
TZNAME:CST
DTSTART:20251102T070000
END:STANDARD
END:VTIMEZONE
BEGIN:VEVENT
DTSTART;TZID=America/Chicago:20241017T173000
DTEND;TZID=America/Chicago:20241017T193000
DTSTAMP:20260423T045904
CREATED:20240826T185702Z
LAST-MODIFIED:20240826T185709Z
UID:10000030-1729186200-1729193400@westhoustonlandmen.com
SUMMARY:2024 WHAPL Fall Social
DESCRIPTION:October 17th\, 2024 from 5:30-7:30pm \n\n\n\nPlease join us for our Fall Social at Lazy Oaks Beer Garden. Enjoy an evening of networking amoung industry colleagues with lite bites and great drinks! \n\n\n\nPlease RSVP for this event below
URL:https://westhoustonlandmen.com/event/2024-whapl-fall-social/
LOCATION:Lazy Oaks Beer Garden\, 10158 Long Point Rd.\, Houston\, Texas\, 77043\, United States
CATEGORIES:Membership Drive,Social
ORGANIZER;CN="West Houston Association of Professional Landmen":MAILTO:westhoustonlandmen@gmail.com
END:VEVENT
BEGIN:VEVENT
DTSTART;TZID=America/Chicago:20231109T173000
DTEND;TZID=America/Chicago:20231109T193000
DTSTAMP:20260423T045904
CREATED:20230823T151414Z
LAST-MODIFIED:20230823T151846Z
UID:10000024-1699551000-1699558200@westhoustonlandmen.com
SUMMARY:2023 WHAPL Fall Social
DESCRIPTION:October 17th\, 2024 from 5:30-7:30pm \n\n\n\nPlease join us for our Fall Social at Lazy Oaks Beer Garden. Enjoy an evening of networking amoung industry colleagues with lite bites and great drinks! \n\n\n\nPlease RSVP for this event below
URL:https://westhoustonlandmen.com/event/2023-whapl-fall-social/
LOCATION:Lazy Oaks Beer Garden\, 10158 Long Point Rd.\, Houston\, Texas\, 77043\, United States
CATEGORIES:Membership Drive,Social
ORGANIZER;CN="West Houston Association of Professional Landmen":MAILTO:westhoustonlandmen@gmail.com
END:VEVENT
END:VCALENDAR