BEGIN:VCALENDAR
VERSION:2.0
PRODID:-//West Houston Association Of Professional Landmen - ECPv6.15.20//NONSGML v1.0//EN
CALSCALE:GREGORIAN
METHOD:PUBLISH
X-ORIGINAL-URL:https://westhoustonlandmen.com
X-WR-CALDESC:Events for West Houston Association Of Professional Landmen
REFRESH-INTERVAL;VALUE=DURATION:PT1H
X-Robots-Tag:noindex
X-PUBLISHED-TTL:PT1H
BEGIN:VTIMEZONE
TZID:America/Chicago
BEGIN:DAYLIGHT
TZOFFSETFROM:-0600
TZOFFSETTO:-0500
TZNAME:CDT
DTSTART:20230312T080000
END:DAYLIGHT
BEGIN:STANDARD
TZOFFSETFROM:-0500
TZOFFSETTO:-0600
TZNAME:CST
DTSTART:20231105T070000
END:STANDARD
BEGIN:DAYLIGHT
TZOFFSETFROM:-0600
TZOFFSETTO:-0500
TZNAME:CDT
DTSTART:20240310T080000
END:DAYLIGHT
BEGIN:STANDARD
TZOFFSETFROM:-0500
TZOFFSETTO:-0600
TZNAME:CST
DTSTART:20241103T070000
END:STANDARD
BEGIN:DAYLIGHT
TZOFFSETFROM:-0600
TZOFFSETTO:-0500
TZNAME:CDT
DTSTART:20250309T080000
END:DAYLIGHT
BEGIN:STANDARD
TZOFFSETFROM:-0500
TZOFFSETTO:-0600
TZNAME:CST
DTSTART:20251102T070000
END:STANDARD
END:VTIMEZONE
BEGIN:VEVENT
DTSTART;TZID=America/Chicago:20240108T113000
DTEND;TZID=America/Chicago:20240108T130000
DTSTAMP:20260423T063737
CREATED:20231207T214341Z
LAST-MODIFIED:20231207T214345Z
UID:10000026-1704713400-1704718800@westhoustonlandmen.com
SUMMARY:2024 HAPL\, WHAPL & NHAPL Joint Luncheon
DESCRIPTION:January 8th\, 2024 from 11:30am-1:00pm \n\n\n\nYearly joint luncheon with all Houston local AAPL associations. \n\n\n\nPlease register for this event on HAPL’s website. Link below.
URL:https://westhoustonlandmen.com/event/2024-hapl-whapl-nhapl-joint-luncheon/
LOCATION:Petroleum Club of Houston\, 1201 Louisiana St\, 35th Floor\, Houston\, Texas\, 77002\, United States
CATEGORIES:Membership Drive,Social
ORGANIZER;CN="West Houston Association of Professional Landmen":MAILTO:westhoustonlandmen@gmail.com
END:VEVENT
END:VCALENDAR